BEGIN:VCALENDAR
VERSION:2.0
PRODID:-//Pen-y-Cwm School - ECPv6.8.3//NONSGML v1.0//EN
CALSCALE:GREGORIAN
METHOD:PUBLISH
X-WR-CALNAME:Pen-y-Cwm School
X-ORIGINAL-URL:http://www.penycwm.com
X-WR-CALDESC:Events for Pen-y-Cwm School
REFRESH-INTERVAL;VALUE=DURATION:PT1H
X-Robots-Tag:noindex
X-PUBLISHED-TTL:PT1H
BEGIN:VTIMEZONE
TZID:Europe/London
BEGIN:DAYLIGHT
TZOFFSETFROM:+0000
TZOFFSETTO:+0100
TZNAME:BST
DTSTART:20260329T010000
END:DAYLIGHT
BEGIN:STANDARD
TZOFFSETFROM:+0100
TZOFFSETTO:+0000
TZNAME:GMT
DTSTART:20261025T010000
END:STANDARD
END:VTIMEZONE
BEGIN:VEVENT
DTSTART;TZID=Europe/London:20260512T093000
DTEND;TZID=Europe/London:20260512T110000
DTSTAMP:20260426T043319
CREATED:20250715T121409Z
LAST-MODIFIED:20250715T121409Z
UID:4220-1778578200-1778583600@www.penycwm.com
SUMMARY:Primary Sports Day
DESCRIPTION:
URL:http://www.penycwm.com/event/primary-sports-day-2/
END:VEVENT
END:VCALENDAR