BEGIN:VCALENDAR
VERSION:2.0
PRODID:-//Pen-y-Cwm School - ECPv6.8.3//NONSGML v1.0//EN
CALSCALE:GREGORIAN
METHOD:PUBLISH
X-WR-CALNAME:Pen-y-Cwm School
X-ORIGINAL-URL:http://www.penycwm.com
X-WR-CALDESC:Events for Pen-y-Cwm School
REFRESH-INTERVAL;VALUE=DURATION:PT1H
X-Robots-Tag:noindex
X-PUBLISHED-TTL:PT1H
BEGIN:VTIMEZONE
TZID:Europe/London
BEGIN:DAYLIGHT
TZOFFSETFROM:+0000
TZOFFSETTO:+0100
TZNAME:BST
DTSTART:20250330T010000
END:DAYLIGHT
BEGIN:STANDARD
TZOFFSETFROM:+0100
TZOFFSETTO:+0000
TZNAME:GMT
DTSTART:20251026T010000
END:STANDARD
END:VTIMEZONE
BEGIN:VEVENT
DTSTART;VALUE=DATE:20250106
DTEND;VALUE=DATE:20250107
DTSTAMP:20260420T070342
CREATED:20241121T130846Z
LAST-MODIFIED:20241121T130853Z
UID:4049-1736121600-1736207999@www.penycwm.com
SUMMARY:Back to school
DESCRIPTION:
URL:http://www.penycwm.com/event/back-to-school/
END:VEVENT
END:VCALENDAR