BEGIN:VCALENDAR
VERSION:2.0
PRODID:-//Pen-y-Cwm School - ECPv6.8.3//NONSGML v1.0//EN
CALSCALE:GREGORIAN
METHOD:PUBLISH
X-WR-CALNAME:Pen-y-Cwm School
X-ORIGINAL-URL:http://www.penycwm.com
X-WR-CALDESC:Events for Pen-y-Cwm School
REFRESH-INTERVAL;VALUE=DURATION:PT1H
X-Robots-Tag:noindex
X-PUBLISHED-TTL:PT1H
BEGIN:VTIMEZONE
TZID:Europe/London
BEGIN:DAYLIGHT
TZOFFSETFROM:+0000
TZOFFSETTO:+0100
TZNAME:BST
DTSTART:20250330T010000
END:DAYLIGHT
BEGIN:STANDARD
TZOFFSETFROM:+0100
TZOFFSETTO:+0000
TZNAME:GMT
DTSTART:20251026T010000
END:STANDARD
END:VTIMEZONE
BEGIN:VEVENT
DTSTART;TZID=Europe/London:20250214T140000
DTEND;TZID=Europe/London:20250214T153000
DTSTAMP:20260420T053949
CREATED:20241121T130942Z
LAST-MODIFIED:20241121T130947Z
UID:4051-1739541600-1739547000@www.penycwm.com
SUMMARY:Valentines Disco
DESCRIPTION:
URL:http://www.penycwm.com/event/valentines-disco/
END:VEVENT
BEGIN:VEVENT
DTSTART;VALUE=DATE:20250220
DTEND;VALUE=DATE:20250221
DTSTAMP:20260420T053949
CREATED:20241121T133005Z
LAST-MODIFIED:20241121T133011Z
UID:4104-1740009600-1740095999@www.penycwm.com
SUMMARY:Last Day of term
DESCRIPTION:
URL:http://www.penycwm.com/event/last-day-of-term-3/
END:VEVENT
BEGIN:VEVENT
DTSTART;VALUE=DATE:20250221
DTEND;VALUE=DATE:20250222
DTSTAMP:20260420T053949
CREATED:20241121T131111Z
LAST-MODIFIED:20241121T131116Z
UID:4056-1740096000-1740182399@www.penycwm.com
SUMMARY:Inset Day
DESCRIPTION:
URL:http://www.penycwm.com/event/inset-day/
END:VEVENT
END:VCALENDAR